BEGIN:VCALENDAR
VERSION:2.0
PRODID:-//Parc Découverte Nature - ECPv6.15.17.1//NONSGML v1.0//EN
CALSCALE:GREGORIAN
METHOD:PUBLISH
X-ORIGINAL-URL:https://decouvertenature.qc.ca/en/
X-WR-CALDESC:Events for Parc Découverte Nature
REFRESH-INTERVAL;VALUE=DURATION:PT1H
X-Robots-Tag:noindex
X-PUBLISHED-TTL:PT1H
BEGIN:VTIMEZONE
TZID:America/Toronto
BEGIN:DAYLIGHT
TZOFFSETFROM:-0500
TZOFFSETTO:-0400
TZNAME:EDT
DTSTART:20240310T070000
END:DAYLIGHT
BEGIN:STANDARD
TZOFFSETFROM:-0400
TZOFFSETTO:-0500
TZNAME:EST
DTSTART:20241103T060000
END:STANDARD
BEGIN:DAYLIGHT
TZOFFSETFROM:-0500
TZOFFSETTO:-0400
TZNAME:EDT
DTSTART:20250309T070000
END:DAYLIGHT
BEGIN:STANDARD
TZOFFSETFROM:-0400
TZOFFSETTO:-0500
TZNAME:EST
DTSTART:20251102T060000
END:STANDARD
BEGIN:DAYLIGHT
TZOFFSETFROM:-0500
TZOFFSETTO:-0400
TZNAME:EDT
DTSTART:20260308T070000
END:DAYLIGHT
BEGIN:STANDARD
TZOFFSETFROM:-0400
TZOFFSETTO:-0500
TZNAME:EST
DTSTART:20261101T060000
END:STANDARD
BEGIN:DAYLIGHT
TZOFFSETFROM:-0500
TZOFFSETTO:-0400
TZNAME:EDT
DTSTART:20270314T070000
END:DAYLIGHT
BEGIN:STANDARD
TZOFFSETFROM:-0400
TZOFFSETTO:-0500
TZNAME:EST
DTSTART:20271107T060000
END:STANDARD
END:VTIMEZONE
BEGIN:VEVENT
DTSTART;TZID=America/Toronto:20260131T100000
DTEND;TZID=America/Toronto:20260131T160000
DTSTAMP:20260424T183446
CREATED:20241216T165731Z
LAST-MODIFIED:20260123T153609Z
UID:6221-1769853600-1769875200@decouvertenature.qc.ca
SUMMARY:Ice Fishing Tournament – Le Glacé | Rendez-vous du samedi
DESCRIPTION:Ice Fishing Tournament – Parc Découverte Nature\, Coaticook\, Eastern Townships\nExperience winter differently with a one-of-a-kind activity in Québec! \nLooking for a winter outing in the Eastern Townships? Take part in our ice fishing tournament—also known as ice fishing—and enjoy a turnkey experience for the whole family or with friends. Discover ice fishing in Québec\, have fun\, and get a chance to win exceptional prizes! \nOn the program: \n\nThree tagged trout: Catch one and win $1\,000\, $500\, or $250.\nIf our trout prove to be a little too clever\, a ranking of the three largest trout caught between January and March will be established\, with a $250 prize for the winner.\nParticipation prize: $100 in cash\, usable at Parc Découverte Nature and Parc de la Gorge de Coaticook\, drawn among all winter-season visitors.\nAcoatica interactive game: A collaborative adventure to save your virtual school of fish. A fun activity that appeals to both families and groups of friends!\n\nPractical information: \n\nDate: January 31\, 2026\nTime: 10 a.m. to 4 p.m. (last entry at 2:30 p.m.\nLocation: Parc Découverte Nature\, Coaticook\nIce fishing equipment provided\nPlease bring containers to take your fish home\nTicket required to participate in all activities\n\n\nWith the support of Geneviève Hébert\, MNA for Saint-François. \n\nReserve your day now and experience the magic of turnkey ice fishing! \n\n👉 Click here to reserve your spot! \n\nFor more information: 819-849-2331 or  info@decouvertenature.qc.ca
URL:https://decouvertenature.qc.ca/en/evenement/the-frozen-fest-saturday-meet-ups-les-rendez-vous-du-samedi/
LOCATION:Parc Découverte Nature\, 2471\, chemin de Baldwin Mills-Barnston\, Coaticook\, QC\, J1A 2S4\, Canada
CATEGORIES:Activités des campeurs,Parc de la Gorge de Coaticook,Parc Découverte Nature
ATTACH;FMTTYPE=image/jpeg:https://decouvertenature.qc.ca/wp-content/uploads/2026/01/Web_Glace_anglais.jpg
ORGANIZER;CN="Parc D%C3%A9couverte Nature":MAILTO:info@decouvertenature.qc.ca
GEO:45.0475581;-71.9093103
X-APPLE-STRUCTURED-LOCATION;VALUE=URI;X-ADDRESS=Parc Découverte Nature 2471 chemin de Baldwin Mills-Barnston Coaticook QC J1A 2S4 Canada;X-APPLE-RADIUS=500;X-TITLE=2471\, chemin de Baldwin Mills-Barnston:geo:-71.9093103,45.0475581
END:VEVENT
BEGIN:VEVENT
DTSTART;TZID=America/Toronto:20251017T180000
DTEND;TZID=America/Toronto:20251017T180000
DTSTAMP:20260424T183446
CREATED:20250924T134438Z
LAST-MODIFIED:20250924T143903Z
UID:6479-1760724000-1760724000@decouvertenature.qc.ca
SUMMARY:"Souper Découverte Huîtres 2025" – A Gourmet and Festive Fundraising Event
DESCRIPTION:The tastiest event of the fall is back! \n We are thrilled to invite you to the 2025 edition of the « Souper Découverte Huîtres! » on Friday\, October 17\, set in the enchanting surroundings of Parc Découverte Nature. Far more than a simple fundraising dinner\, this evening has become a must-attend fall event. The proceeds will directly support the park’s development and help provide educational experiences accessible to schools in the region. \n🍽️ On the menu: \n\nAn unlimited variety of oysters\, freshly shucked before your eyes\nA refined menu crafted by Chef Dominic Tremblay of Groupe Massawippi\nCarefully selected wines and drinks included\nLive musical performance\nThe legendary live auction\n\n🎟 Ticket: $130 + taxes \n\nDoors open at 6:00 PM\nTable reservations available for 10 people\nLimited seats – reserve before October 6\, 2025\n\n👉 Info and reservations: ctremblay@decouvertenature.qc.ca | 819 849-2331
URL:https://decouvertenature.qc.ca/en/evenement/souper-decouverte-huitres-2025-un-evenement-benefice-gourmand-et-festif/
LOCATION:Parc Découverte Nature\, 2471\, chemin de Baldwin Mills-Barnston\, Coaticook\, QC\, J1A 2S4\, Canada
CATEGORIES:Activités des campeurs,Parc de la Gorge de Coaticook,Parc Découverte Nature
ATTACH;FMTTYPE=image/jpeg:https://decouvertenature.qc.ca/wp-content/uploads/2025/09/PDN-visuels-SouperHuitres-2025_calendrier.jpg
ORGANIZER;CN="Parc D%C3%A9couverte Nature":MAILTO:info@decouvertenature.qc.ca
GEO:45.0475581;-71.9093103
X-APPLE-STRUCTURED-LOCATION;VALUE=URI;X-ADDRESS=Parc Découverte Nature 2471 chemin de Baldwin Mills-Barnston Coaticook QC J1A 2S4 Canada;X-APPLE-RADIUS=500;X-TITLE=2471\, chemin de Baldwin Mills-Barnston:geo:-71.9093103,45.0475581
END:VEVENT
BEGIN:VEVENT
DTSTART;VALUE=DATE:20250830
DTEND;VALUE=DATE:20250902
DTSTAMP:20260424T183446
CREATED:20250808T155422Z
LAST-MODIFIED:20250829T154714Z
UID:6444-1756512000-1756771199@decouvertenature.qc.ca
SUMMARY:"Mobilisation petits bedons" Fundraiser – August 30 to September 1\, 2025
DESCRIPTION:“Mobilisation petits bedons” Fundraiser is an initiative dedicated to raising funds to support school food assistance programs in Coaticook. \nOur desire to give back to the community is something we deeply care about. That’s why\, for every ticket sold between August 30 and September 1 at the Parc de la Gorge de Coaticook\, Foresta Lumina\, and the Parc Découverte Nature\, we will donate $1 to the cause. This dollar will help provide nutritious meals to children during their school days. We truly want to make a difference! \nDonation boxes will also be available at the following locations: Parc Découverte Nature Welcome Office (2471 Baldwin-Barnston Road\, Coaticook)\, Camping Welcome Office (400 St-Marc Street\, Coaticook) and Denis Maurais Welcome Office (135 Michaud Street\, Coaticook) \nIf you want to read the press release (in French)\, click here!
URL:https://decouvertenature.qc.ca/en/evenement/mobilisation-petits-bedons-du-30-aout-au-1er-septembre-2025/
LOCATION:Parc Découverte Nature\, 2471\, chemin de Baldwin Mills-Barnston\, Coaticook\, QC\, J1A 2S4\, Canada
CATEGORIES:Activités des campeurs,Parc de la Gorge de Coaticook,Parc Découverte Nature
ATTACH;FMTTYPE=image/jpeg:https://decouvertenature.qc.ca/wp-content/uploads/2024/08/Promo_evenement_facebook.jpg
ORGANIZER;CN="Parc D%C3%A9couverte Nature":MAILTO:info@decouvertenature.qc.ca
GEO:45.0475581;-71.9093103
X-APPLE-STRUCTURED-LOCATION;VALUE=URI;X-ADDRESS=Parc Découverte Nature 2471 chemin de Baldwin Mills-Barnston Coaticook QC J1A 2S4 Canada;X-APPLE-RADIUS=500;X-TITLE=2471\, chemin de Baldwin Mills-Barnston:geo:-71.9093103,45.0475581
END:VEVENT
END:VCALENDAR