BEGIN:VCALENDAR
VERSION:2.0
PRODID:-//Parc Découverte Nature - ECPv6.15.17.1//NONSGML v1.0//EN
CALSCALE:GREGORIAN
METHOD:PUBLISH
X-ORIGINAL-URL:https://decouvertenature.qc.ca/en/
X-WR-CALDESC:Events for Parc Découverte Nature
REFRESH-INTERVAL;VALUE=DURATION:PT1H
X-Robots-Tag:noindex
X-PUBLISHED-TTL:PT1H
BEGIN:VTIMEZONE
TZID:America/Toronto
BEGIN:DAYLIGHT
TZOFFSETFROM:-0500
TZOFFSETTO:-0400
TZNAME:EDT
DTSTART:20210314T070000
END:DAYLIGHT
BEGIN:STANDARD
TZOFFSETFROM:-0400
TZOFFSETTO:-0500
TZNAME:EST
DTSTART:20211107T060000
END:STANDARD
BEGIN:DAYLIGHT
TZOFFSETFROM:-0500
TZOFFSETTO:-0400
TZNAME:EDT
DTSTART:20220313T070000
END:DAYLIGHT
BEGIN:STANDARD
TZOFFSETFROM:-0400
TZOFFSETTO:-0500
TZNAME:EST
DTSTART:20221106T060000
END:STANDARD
BEGIN:DAYLIGHT
TZOFFSETFROM:-0500
TZOFFSETTO:-0400
TZNAME:EDT
DTSTART:20230312T070000
END:DAYLIGHT
BEGIN:STANDARD
TZOFFSETFROM:-0400
TZOFFSETTO:-0500
TZNAME:EST
DTSTART:20231105T060000
END:STANDARD
BEGIN:DAYLIGHT
TZOFFSETFROM:-0500
TZOFFSETTO:-0400
TZNAME:EDT
DTSTART:20240310T070000
END:DAYLIGHT
BEGIN:STANDARD
TZOFFSETFROM:-0400
TZOFFSETTO:-0500
TZNAME:EST
DTSTART:20241103T060000
END:STANDARD
BEGIN:DAYLIGHT
TZOFFSETFROM:-0500
TZOFFSETTO:-0400
TZNAME:EDT
DTSTART:20250309T070000
END:DAYLIGHT
BEGIN:STANDARD
TZOFFSETFROM:-0400
TZOFFSETTO:-0500
TZNAME:EST
DTSTART:20251102T060000
END:STANDARD
BEGIN:DAYLIGHT
TZOFFSETFROM:-0500
TZOFFSETTO:-0400
TZNAME:EDT
DTSTART:20260308T070000
END:DAYLIGHT
BEGIN:STANDARD
TZOFFSETFROM:-0400
TZOFFSETTO:-0500
TZNAME:EST
DTSTART:20261101T060000
END:STANDARD
BEGIN:DAYLIGHT
TZOFFSETFROM:-0500
TZOFFSETTO:-0400
TZNAME:EDT
DTSTART:20270314T070000
END:DAYLIGHT
BEGIN:STANDARD
TZOFFSETFROM:-0400
TZOFFSETTO:-0500
TZNAME:EST
DTSTART:20271107T060000
END:STANDARD
END:VTIMEZONE
BEGIN:VEVENT
DTSTART;TZID=America/Toronto:20260131T100000
DTEND;TZID=America/Toronto:20260131T160000
DTSTAMP:20260424T151646
CREATED:20241216T165731Z
LAST-MODIFIED:20260123T153609Z
UID:6221-1769853600-1769875200@decouvertenature.qc.ca
SUMMARY:Ice Fishing Tournament – Le Glacé | Rendez-vous du samedi
DESCRIPTION:Ice Fishing Tournament – Parc Découverte Nature\, Coaticook\, Eastern Townships\nExperience winter differently with a one-of-a-kind activity in Québec! \nLooking for a winter outing in the Eastern Townships? Take part in our ice fishing tournament—also known as ice fishing—and enjoy a turnkey experience for the whole family or with friends. Discover ice fishing in Québec\, have fun\, and get a chance to win exceptional prizes! \nOn the program: \n\nThree tagged trout: Catch one and win $1\,000\, $500\, or $250.\nIf our trout prove to be a little too clever\, a ranking of the three largest trout caught between January and March will be established\, with a $250 prize for the winner.\nParticipation prize: $100 in cash\, usable at Parc Découverte Nature and Parc de la Gorge de Coaticook\, drawn among all winter-season visitors.\nAcoatica interactive game: A collaborative adventure to save your virtual school of fish. A fun activity that appeals to both families and groups of friends!\n\nPractical information: \n\nDate: January 31\, 2026\nTime: 10 a.m. to 4 p.m. (last entry at 2:30 p.m.\nLocation: Parc Découverte Nature\, Coaticook\nIce fishing equipment provided\nPlease bring containers to take your fish home\nTicket required to participate in all activities\n\n\nWith the support of Geneviève Hébert\, MNA for Saint-François. \n\nReserve your day now and experience the magic of turnkey ice fishing! \n\n👉 Click here to reserve your spot! \n\nFor more information: 819-849-2331 or  info@decouvertenature.qc.ca
URL:https://decouvertenature.qc.ca/en/evenement/the-frozen-fest-saturday-meet-ups-les-rendez-vous-du-samedi/
LOCATION:Parc Découverte Nature\, 2471\, chemin de Baldwin Mills-Barnston\, Coaticook\, QC\, J1A 2S4\, Canada
CATEGORIES:Activités des campeurs,Parc de la Gorge de Coaticook,Parc Découverte Nature
ATTACH;FMTTYPE=image/jpeg:https://decouvertenature.qc.ca/wp-content/uploads/2026/01/Web_Glace_anglais.jpg
ORGANIZER;CN="Parc D%C3%A9couverte Nature":MAILTO:info@decouvertenature.qc.ca
GEO:45.0475581;-71.9093103
X-APPLE-STRUCTURED-LOCATION;VALUE=URI;X-ADDRESS=Parc Découverte Nature 2471 chemin de Baldwin Mills-Barnston Coaticook QC J1A 2S4 Canada;X-APPLE-RADIUS=500;X-TITLE=2471\, chemin de Baldwin Mills-Barnston:geo:-71.9093103,45.0475581
END:VEVENT
BEGIN:VEVENT
DTSTART;TZID=America/Toronto:20251017T180000
DTEND;TZID=America/Toronto:20251017T180000
DTSTAMP:20260424T151646
CREATED:20250924T134438Z
LAST-MODIFIED:20250924T143903Z
UID:6479-1760724000-1760724000@decouvertenature.qc.ca
SUMMARY:"Souper Découverte Huîtres 2025" – A Gourmet and Festive Fundraising Event
DESCRIPTION:The tastiest event of the fall is back! \n We are thrilled to invite you to the 2025 edition of the « Souper Découverte Huîtres! » on Friday\, October 17\, set in the enchanting surroundings of Parc Découverte Nature. Far more than a simple fundraising dinner\, this evening has become a must-attend fall event. The proceeds will directly support the park’s development and help provide educational experiences accessible to schools in the region. \n🍽️ On the menu: \n\nAn unlimited variety of oysters\, freshly shucked before your eyes\nA refined menu crafted by Chef Dominic Tremblay of Groupe Massawippi\nCarefully selected wines and drinks included\nLive musical performance\nThe legendary live auction\n\n🎟 Ticket: $130 + taxes \n\nDoors open at 6:00 PM\nTable reservations available for 10 people\nLimited seats – reserve before October 6\, 2025\n\n👉 Info and reservations: ctremblay@decouvertenature.qc.ca | 819 849-2331
URL:https://decouvertenature.qc.ca/en/evenement/souper-decouverte-huitres-2025-un-evenement-benefice-gourmand-et-festif/
LOCATION:Parc Découverte Nature\, 2471\, chemin de Baldwin Mills-Barnston\, Coaticook\, QC\, J1A 2S4\, Canada
CATEGORIES:Activités des campeurs,Parc de la Gorge de Coaticook,Parc Découverte Nature
ATTACH;FMTTYPE=image/jpeg:https://decouvertenature.qc.ca/wp-content/uploads/2025/09/PDN-visuels-SouperHuitres-2025_calendrier.jpg
ORGANIZER;CN="Parc D%C3%A9couverte Nature":MAILTO:info@decouvertenature.qc.ca
GEO:45.0475581;-71.9093103
X-APPLE-STRUCTURED-LOCATION;VALUE=URI;X-ADDRESS=Parc Découverte Nature 2471 chemin de Baldwin Mills-Barnston Coaticook QC J1A 2S4 Canada;X-APPLE-RADIUS=500;X-TITLE=2471\, chemin de Baldwin Mills-Barnston:geo:-71.9093103,45.0475581
END:VEVENT
BEGIN:VEVENT
DTSTART;VALUE=DATE:20250830
DTEND;VALUE=DATE:20250902
DTSTAMP:20260424T151646
CREATED:20250808T155422Z
LAST-MODIFIED:20250829T154714Z
UID:6444-1756512000-1756771199@decouvertenature.qc.ca
SUMMARY:"Mobilisation petits bedons" Fundraiser – August 30 to September 1\, 2025
DESCRIPTION:“Mobilisation petits bedons” Fundraiser is an initiative dedicated to raising funds to support school food assistance programs in Coaticook. \nOur desire to give back to the community is something we deeply care about. That’s why\, for every ticket sold between August 30 and September 1 at the Parc de la Gorge de Coaticook\, Foresta Lumina\, and the Parc Découverte Nature\, we will donate $1 to the cause. This dollar will help provide nutritious meals to children during their school days. We truly want to make a difference! \nDonation boxes will also be available at the following locations: Parc Découverte Nature Welcome Office (2471 Baldwin-Barnston Road\, Coaticook)\, Camping Welcome Office (400 St-Marc Street\, Coaticook) and Denis Maurais Welcome Office (135 Michaud Street\, Coaticook) \nIf you want to read the press release (in French)\, click here!
URL:https://decouvertenature.qc.ca/en/evenement/mobilisation-petits-bedons-du-30-aout-au-1er-septembre-2025/
LOCATION:Parc Découverte Nature\, 2471\, chemin de Baldwin Mills-Barnston\, Coaticook\, QC\, J1A 2S4\, Canada
CATEGORIES:Activités des campeurs,Parc de la Gorge de Coaticook,Parc Découverte Nature
ATTACH;FMTTYPE=image/jpeg:https://decouvertenature.qc.ca/wp-content/uploads/2024/08/Promo_evenement_facebook.jpg
ORGANIZER;CN="Parc D%C3%A9couverte Nature":MAILTO:info@decouvertenature.qc.ca
GEO:45.0475581;-71.9093103
X-APPLE-STRUCTURED-LOCATION;VALUE=URI;X-ADDRESS=Parc Découverte Nature 2471 chemin de Baldwin Mills-Barnston Coaticook QC J1A 2S4 Canada;X-APPLE-RADIUS=500;X-TITLE=2471\, chemin de Baldwin Mills-Barnston:geo:-71.9093103,45.0475581
END:VEVENT
BEGIN:VEVENT
DTSTART;TZID=America/Toronto:20250510T090000
DTEND;TZID=America/Toronto:20250510T090000
DTSTAMP:20260424T151646
CREATED:20250428T174911Z
LAST-MODIFIED:20250429T154805Z
UID:6387-1746867600-1746867600@decouvertenature.qc.ca
SUMMARY:VIP Day exclusive to residents of the Coaticook RCM
DESCRIPTION:Dear residents of the Coaticook RCM 🏠👋 \nMark your calendars for Saturday\, May 10\, 2025 for an exciting day at Parc Découverte Nature\, starting at 9:00 AM! We have an exciting announcement: entrance will be completely FREE for you! Yes\, you heard it right\, FREE! 📅🤩🎣 However\, please note that fish are not included in this offer. \nBe among the first to arrive at 9:00 AM to fully enjoy this experience. The last entry will be at 2:30 PM\, so don’t miss out on this opportunity! 🎟️ \nYour free entry gives you access to all the wonders the park has to offer\, from the engaging interactive games at Acoatica to the area dedicated to cooking your delicious trout\, and the fishing station where fish caught must be paid for on-site. This is an invitation you can’t pass up! 🐟☀️ \nWe also invite you to bring a picnic to enjoy your meal in the tasty zone. 🍽️ \nBe sure to bring proof of residence (e.g.\, driver’s license) to take advantage of this special offer exclusively for residents of the Coaticook RCM. \nReserve your tickets now online to secure your spot for this memorable day. ✨ Here’s how to proceed:\nGo to decouvertenature.qc.ca \n\nSelect the “Reservation” tab;\nChoose the ticket “10 MAI 2025 | Journée gratuite résident de la MRC de Coaticook”;\nIndicate the number of tickets you want and add them to your cart;\nPress the “Continue” button;\nSelect the date of May 10 in the calendar\, then the time of your visit and click “Confirm”;\nOnce your order summary appears\, click “Confirm” again;\nFill in your contact information to receive your tickets\, and you’re all set!
URL:https://decouvertenature.qc.ca/en/evenement/vip-day-exclusive-to-residents-of-the-coaticook-rcm/
LOCATION:Parc Découverte Nature\, 2471\, chemin de Baldwin Mills-Barnston\, Coaticook\, QC\, J1A 2S4\, Canada
ATTACH;FMTTYPE=image/jpeg:https://decouvertenature.qc.ca/wp-content/uploads/2025/04/journee-VIP-PDN.jpg
ORGANIZER;CN="Parc D%C3%A9couverte Nature":MAILTO:info@decouvertenature.qc.ca
GEO:45.0475581;-71.9093103
X-APPLE-STRUCTURED-LOCATION;VALUE=URI;X-ADDRESS=Parc Découverte Nature 2471 chemin de Baldwin Mills-Barnston Coaticook QC J1A 2S4 Canada;X-APPLE-RADIUS=500;X-TITLE=2471\, chemin de Baldwin Mills-Barnston:geo:-71.9093103,45.0475581
END:VEVENT
BEGIN:VEVENT
DTSTART;VALUE=DATE:20240831
DTEND;VALUE=DATE:20240903
DTSTAMP:20260424T151646
CREATED:20240815T185116Z
LAST-MODIFIED:20240815T185116Z
UID:6146-1725062400-1725321599@decouvertenature.qc.ca
SUMMARY:"Mobilisation petits bedons" from August 31 to September 2\, 2024
DESCRIPTION:Our “Mobilisation petits bedons” operation is an initiative dedicated to raising funds to support food aid programs in Coaticook’s elementary schools. \nOur desire to give back to the community is particularly close to our hearts. That’s why\, for every entry sold between August 31 and September 2 at the Parc de la Gorge de Coaticook\, Foresta Lumina\, and Parc Découverte Nature\, we will donate $1 to the cause. This dollar will provide nutritious meals to children who\, unfortunately\, do not have them during their school days. We want to make a difference! \nDonation boxes will be available at the Camping reception  (400 St-Marc Street\, Coaticook)\, at the Denis Maurais reception (135 Michaud Street\, Coaticook)\, and at Parc Découverte Nature (2471 Baldwin-Barnston Road\, Coaticook).
URL:https://decouvertenature.qc.ca/en/evenement/mobilisation-petits-bedons-from-august-31-to-september-2-2024/
LOCATION:Parc Découverte Nature\, 2471\, chemin de Baldwin Mills-Barnston\, Coaticook\, QC\, J1A 2S4\, Canada
ATTACH;FMTTYPE=image/jpeg:https://decouvertenature.qc.ca/wp-content/uploads/2024/08/Promo_evenement_facebook.jpg
ORGANIZER;CN="Parc D%C3%A9couverte Nature":MAILTO:info@decouvertenature.qc.ca
GEO:45.0475581;-71.9093103
X-APPLE-STRUCTURED-LOCATION;VALUE=URI;X-ADDRESS=Parc Découverte Nature 2471 chemin de Baldwin Mills-Barnston Coaticook QC J1A 2S4 Canada;X-APPLE-RADIUS=500;X-TITLE=2471\, chemin de Baldwin Mills-Barnston:geo:-71.9093103,45.0475581
END:VEVENT
BEGIN:VEVENT
DTSTART;TZID=America/Toronto:20240210T100000
DTEND;TZID=America/Toronto:20240210T160000
DTSTAMP:20260424T151646
CREATED:20231211T204052Z
LAST-MODIFIED:20240124T171831Z
UID:5547-1707559200-1707580800@decouvertenature.qc.ca
SUMMARY:ICE FISHING TOURNAMENT IN PARTNERSHIP THE CITY OF COATICOOK
DESCRIPTION:Whether you are an ice fishing enthusiast or want to discover this sport\, a big-paying fishing tournament awaits you. Fish one of the paying trouts and win $1000\, $500 or $250! Your participation in the one-hour paid fishing trip is included in the cost of the ice fishing ticket. You can increase your chances and extend your participation for a few additional dollars\, payable on site only. It will be possible to warm up by discovering a winter version of Acoatica’s indoor interactive games. Reserve your place now and earn a chance to replenish your wallet! Parc Découverte Nature will also be open for ice fishing and Acoatica on February 3rd\, 17th and 24th as well as March 2nd\, 5th to 9th \, 2024. The Park is open from 10am to 4pm (last entry is at 2:30pm).
URL:https://decouvertenature.qc.ca/en/evenement/ice-fishing-tournament-at-parc-decouverte-nature/
LOCATION:Parc Découverte Nature\, 2471\, chemin de Baldwin Mills-Barnston\, Coaticook\, QC\, J1A 2S4\, Canada
ATTACH;FMTTYPE=image/jpeg:https://decouvertenature.qc.ca/wp-content/uploads/2023/12/Tournoi_10_fevrier.jpg
ORGANIZER;CN="Parc D%C3%A9couverte Nature":MAILTO:info@decouvertenature.qc.ca
GEO:45.0475581;-71.9093103
X-APPLE-STRUCTURED-LOCATION;VALUE=URI;X-ADDRESS=Parc Découverte Nature 2471 chemin de Baldwin Mills-Barnston Coaticook QC J1A 2S4 Canada;X-APPLE-RADIUS=500;X-TITLE=2471\, chemin de Baldwin Mills-Barnston:geo:-71.9093103,45.0475581
END:VEVENT
BEGIN:VEVENT
DTSTART;TZID=America/Toronto:20240203T100000
DTEND;TZID=America/Toronto:20240203T150000
DTSTAMP:20260424T151646
CREATED:20231211T203459Z
LAST-MODIFIED:20240229T165741Z
UID:5531-1706954400-1706972400@decouvertenature.qc.ca
SUMMARY:*CANCELED* Saturday with Family *CANCELED*
DESCRIPTION:*** UPDATE (February 29\, 2024) *** \n*CANCELED* Due to weather conditions\, Saturday with family on March 2\, as well March 5 to 9\, 2024 are cancelled. \n*** END OF UPDATE (February 29\, 2024) *** \n \n \n 
URL:https://decouvertenature.qc.ca/en/evenement/ice-fishing-and-acoatica-at-parc-decouverte-nature/2024-02-03/
LOCATION:Parc Découverte Nature\, 2471\, chemin de Baldwin Mills-Barnston\, Coaticook\, QC\, J1A 2S4\, Canada
ATTACH;FMTTYPE=image/jpeg:https://decouvertenature.qc.ca/wp-content/uploads/2023/12/VCOT1452-scaled.jpg
ORGANIZER;CN="Parc D%C3%A9couverte Nature":MAILTO:info@decouvertenature.qc.ca
GEO:45.0475581;-71.9093103
X-APPLE-STRUCTURED-LOCATION;VALUE=URI;X-ADDRESS=Parc Découverte Nature 2471 chemin de Baldwin Mills-Barnston Coaticook QC J1A 2S4 Canada;X-APPLE-RADIUS=500;X-TITLE=2471\, chemin de Baldwin Mills-Barnston:geo:-71.9093103,45.0475581
END:VEVENT
BEGIN:VEVENT
DTSTART;TZID=America/Toronto:20230218T100000
DTEND;TZID=America/Toronto:20230218T100000
DTSTAMP:20260424T151646
CREATED:20230202T185319Z
LAST-MODIFIED:20230202T185404Z
UID:5236-1676714400-1676714400@decouvertenature.qc.ca
SUMMARY:ICE FISHING AND ACOATICA IN WINTER VERSION
DESCRIPTION:Your challenge while playing Acoatica will be to ensure the survival of endangered fish species in Quebec. Through interactive and immersive indoor challenges\, you will accumulate points and thus ensure the survival of the fish linked to your profile via connected bracelets. The Acoatica game includes the opportunity to tease fish while living the experience of ice fishing (equipment provided). \nLast variable entry depending on the request. Schedule subject to change. \nBooking required in order to have the desired time slot at decouvertenature.qc.ca
URL:https://decouvertenature.qc.ca/en/evenement/events-ice-fishing-and-acoatica-in-winter-version/2023-02-18/
LOCATION:Parc Découverte Nature\, 2471\, chemin de Baldwin Mills-Barnston\, Coaticook\, QC\, J1A 2S4\, Canada
ATTACH;FMTTYPE=image/jpeg:https://decouvertenature.qc.ca/wp-content/uploads/2023/02/IMG_1853-scaled.jpg
ORGANIZER;CN="Parc D%C3%A9couverte Nature":MAILTO:info@decouvertenature.qc.ca
GEO:45.0475581;-71.9093103
X-APPLE-STRUCTURED-LOCATION;VALUE=URI;X-ADDRESS=Parc Découverte Nature 2471 chemin de Baldwin Mills-Barnston Coaticook QC J1A 2S4 Canada;X-APPLE-RADIUS=500;X-TITLE=2471\, chemin de Baldwin Mills-Barnston:geo:-71.9093103,45.0475581
END:VEVENT
BEGIN:VEVENT
DTSTART;TZID=America/Toronto:20230211T100000
DTEND;TZID=America/Toronto:20230211T100000
DTSTAMP:20260424T151646
CREATED:20230201T211256Z
LAST-MODIFIED:20230209T220256Z
UID:5207-1676109600-1676109600@decouvertenature.qc.ca
SUMMARY:Fishing tournament and 4 trout paying $500 *** ICE FISHING AND ACOATICA IN WINTER VERSION
DESCRIPTION:The Park inaugurates its fishing season with the organization of a fishing tournament where participants will be able to catch one of the paid trout. Four larger rainbow trout were identified. Each lucky fish will earn the fisherman $500. Each participant will have one hour to take up the challenge. A special ticket will be sold on the site to participate in this adventure for $10! Enjoy the «zen» spaces to warm you up! You can take your catch home! In the boutique\, buy oils and spices with local flavours and cook a feast at home! \nYour challenge in playing Acoatica in winter will be to ensure the survival of threatened fish species from Quebec. Through interactive and immersive challenges\, you will accumulate points and thus ensure the survival of the fish connected to your profile via connected bracelets. \nDaily access is required. Equipment and bait provided. Please note that the Parc Découverte Nature will be open on February 11\, 18 and 25\, 2023. \nLast variable entry depending on the request. Schedule subject to change. \nBooking required in order to have the desired time slot at decouvertenature.qc.ca \nEvent in partnership with CIGN FM 96.7 and Essor Insurance
URL:https://decouvertenature.qc.ca/en/evenement/ice-fishing-and-explore-acoatica-in-winter-version/
LOCATION:Parc Découverte Nature\, 2471\, chemin de Baldwin Mills-Barnston\, Coaticook\, QC\, J1A 2S4\, Canada
ATTACH;FMTTYPE=image/jpeg:https://decouvertenature.qc.ca/wp-content/uploads/2023/02/IMG_1853-scaled.jpg
ORGANIZER;CN="Parc D%C3%A9couverte Nature":MAILTO:info@decouvertenature.qc.ca
GEO:45.0475581;-71.9093103
X-APPLE-STRUCTURED-LOCATION;VALUE=URI;X-ADDRESS=Parc Découverte Nature 2471 chemin de Baldwin Mills-Barnston Coaticook QC J1A 2S4 Canada;X-APPLE-RADIUS=500;X-TITLE=2471\, chemin de Baldwin Mills-Barnston:geo:-71.9093103,45.0475581
END:VEVENT
BEGIN:VEVENT
DTSTART;TZID=America/Toronto:20230204T000000
DTEND;TZID=America/Toronto:20230204T000000
DTSTAMP:20260424T151646
CREATED:20221209T165740Z
LAST-MODIFIED:20230202T183914Z
UID:5088-1675468800-1675468800@decouvertenature.qc.ca
SUMMARY:*** *** The February 4 event has been rescheduled to February 11\, 2023 ***"Février\, jouez dehors!" SATURDAY ON ICE
DESCRIPTION:*** L’activité du 4 février est reportée au 11 février 2023. Merci de votre compréhension! *** \nThe Park inaugurates its fishing season with the organization of a fishing tournament where participants will be able to catch one of the paid trout. Four larger rainbow trout were identified. Each lucky fish will earn the fisherman $500. Each participant will have one hour to take up the challenge. A special ticket will be sold on the site to participate in this adventure ($10)! \nA daily access is required and it includes equipment and bait as well as access to Acoatica in winter version! You will be able to test your knowledge and virtual fishing skills by playing the different interactive and immersive games inside. Note that the Nature Discovery Park will be open on February 11\, 18 and 25\, 2023. \nLast entry to the site at 2:30 p.m. \nBooking required in order to have the desired time departure. \nEvent in partnership with CIGN FM 96.7 Event in partnership with CIGN FM 96.7
URL:https://decouvertenature.qc.ca/en/evenement/february-play-outside-saturday-on-ice/
LOCATION:Parc Découverte Nature\, 2471\, chemin de Baldwin Mills-Barnston\, Coaticook\, QC\, J1A 2S4\, Canada
ATTACH;FMTTYPE=image/jpeg:https://decouvertenature.qc.ca/wp-content/uploads/2022/12/Ville_glace-1.jpg
ORGANIZER;CN="Parc D%C3%A9couverte Nature":MAILTO:info@decouvertenature.qc.ca
GEO:45.0475581;-71.9093103
X-APPLE-STRUCTURED-LOCATION;VALUE=URI;X-ADDRESS=Parc Découverte Nature 2471 chemin de Baldwin Mills-Barnston Coaticook QC J1A 2S4 Canada;X-APPLE-RADIUS=500;X-TITLE=2471\, chemin de Baldwin Mills-Barnston:geo:-71.9093103,45.0475581
END:VEVENT
BEGIN:VEVENT
DTSTART;TZID=America/Toronto:20220514T090000
DTEND;TZID=America/Toronto:20220514T170000
DTSTAMP:20260424T151646
CREATED:20220413T140141Z
LAST-MODIFIED:20220503T212728Z
UID:4752-1652518800-1652547600@decouvertenature.qc.ca
SUMMARY:Coaticook RCM Residents Free Day at Acoatica
DESCRIPTION:Access to Acoatica and the ponds is free. You will have to pay for your fish caught on site. \nBooking required and online only at decouvertenature.qc.ca. \nProof of residence required on site. \n 
URL:https://decouvertenature.qc.ca/en/evenement/coaticook-rcm-residents-free-day-at-acoatica/
LOCATION:Parc Découverte Nature\, 2471\, chemin de Baldwin Mills-Barnston\, Coaticook\, QC\, J1A 2S4\, Canada
ATTACH;FMTTYPE=image/jpeg:https://decouvertenature.qc.ca/wp-content/uploads/2021/07/MAX4587_web.jpg
ORGANIZER;CN="Parc D%C3%A9couverte Nature":MAILTO:info@decouvertenature.qc.ca
GEO:45.0475581;-71.9093103
X-APPLE-STRUCTURED-LOCATION;VALUE=URI;X-ADDRESS=Parc Découverte Nature 2471 chemin de Baldwin Mills-Barnston Coaticook QC J1A 2S4 Canada;X-APPLE-RADIUS=500;X-TITLE=2471\, chemin de Baldwin Mills-Barnston:geo:-71.9093103,45.0475581
END:VEVENT
END:VCALENDAR