BEGIN:VCALENDAR
VERSION:2.0
PRODID:-//Parc Découverte Nature - ECPv6.15.17.1//NONSGML v1.0//EN
CALSCALE:GREGORIAN
METHOD:PUBLISH
X-ORIGINAL-URL:https://decouvertenature.qc.ca
X-WR-CALDESC:Évènements pour Parc Découverte Nature
REFRESH-INTERVAL;VALUE=DURATION:PT1H
X-Robots-Tag:noindex
X-PUBLISHED-TTL:PT1H
BEGIN:VTIMEZONE
TZID:America/Toronto
BEGIN:DAYLIGHT
TZOFFSETFROM:-0500
TZOFFSETTO:-0400
TZNAME:EDT
DTSTART:20240310T070000
END:DAYLIGHT
BEGIN:STANDARD
TZOFFSETFROM:-0400
TZOFFSETTO:-0500
TZNAME:EST
DTSTART:20241103T060000
END:STANDARD
BEGIN:DAYLIGHT
TZOFFSETFROM:-0500
TZOFFSETTO:-0400
TZNAME:EDT
DTSTART:20250309T070000
END:DAYLIGHT
BEGIN:STANDARD
TZOFFSETFROM:-0400
TZOFFSETTO:-0500
TZNAME:EST
DTSTART:20251102T060000
END:STANDARD
BEGIN:DAYLIGHT
TZOFFSETFROM:-0500
TZOFFSETTO:-0400
TZNAME:EDT
DTSTART:20260308T070000
END:DAYLIGHT
BEGIN:STANDARD
TZOFFSETFROM:-0400
TZOFFSETTO:-0500
TZNAME:EST
DTSTART:20261101T060000
END:STANDARD
END:VTIMEZONE
BEGIN:VEVENT
DTSTART;VALUE=DATE:20250830
DTEND;VALUE=DATE:20250902
DTSTAMP:20260424T183446
CREATED:20250808T155422Z
LAST-MODIFIED:20250829T154550Z
UID:6441-1756512000-1756771199@decouvertenature.qc.ca
SUMMARY:Mobilisation petits bedons du 30 août au 1er septembre 2025
DESCRIPTION:Notre opération « Mobilisations petits bedons »  est une initiative dédiée à recueillir des fonds pour soutenir les programmes d’aide alimentaire dans les écoles de Coaticook. \nNotre désir de redonner à la communauté nous tient particulièrement à cœur. C’est pourquoi\, pour chaque entrée vendue entre le 30 août et le 1er septembre au Parc de la Gorge de Coaticook\, à Foresta Lumina et au Parc Découverte Nature\, nous remettrons 1 $ à la cause. Ce dollar permettra d’offrir des repas nutritifs aux enfants durant leurs journées d’école. Nous voulons faire une différence! \nDes boîtes pour recueillir les dons seront disponibles à l’accueil du camping (400\, rue St-Marc\, Coaticook)\, à l’accueil Denis Maurais (135\, rue Michaud\, Coaticook) ainsi qu’à l’accueil du Parc Découverte Nature (2471\, chemin Baldwin-Barnston\, Coaticook). \nSi vous voulez lire le communiqué de presse\, cliquez ici !
URL:https://decouvertenature.qc.ca/evenement/mobilisation-petits-bedons-du-30-aout-au-1er-septembre-2025/
LOCATION:Parc Découverte Nature\, 2471\, chemin de Baldwin Mills-Barnston\, Coaticook\, QC\, J1A 2S4\, Canada
CATEGORIES:Activités des campeurs,Parc de la Gorge de Coaticook,Parc Découverte Nature
ATTACH;FMTTYPE=image/jpeg:https://decouvertenature.qc.ca/wp-content/uploads/2024/08/Promo_evenement_facebook.jpg
ORGANIZER;CN="Parc D%C3%A9couverte Nature":MAILTO:info@decouvertenature.qc.ca
GEO:45.0475581;-71.9093103
X-APPLE-STRUCTURED-LOCATION;VALUE=URI;X-ADDRESS=Parc Découverte Nature 2471 chemin de Baldwin Mills-Barnston Coaticook QC J1A 2S4 Canada;X-APPLE-RADIUS=500;X-TITLE=2471\, chemin de Baldwin Mills-Barnston:geo:-71.9093103,45.0475581
END:VEVENT
END:VCALENDAR