BEGIN:VCALENDAR
VERSION:2.0
PRODID:-//Parc Découverte Nature - ECPv6.15.17.1//NONSGML v1.0//EN
CALSCALE:GREGORIAN
METHOD:PUBLISH
X-ORIGINAL-URL:https://decouvertenature.qc.ca
X-WR-CALDESC:Évènements pour Parc Découverte Nature
REFRESH-INTERVAL;VALUE=DURATION:PT1H
X-Robots-Tag:noindex
X-PUBLISHED-TTL:PT1H
BEGIN:VTIMEZONE
TZID:America/Toronto
BEGIN:DAYLIGHT
TZOFFSETFROM:-0500
TZOFFSETTO:-0400
TZNAME:EDT
DTSTART:20180311T070000
END:DAYLIGHT
BEGIN:STANDARD
TZOFFSETFROM:-0400
TZOFFSETTO:-0500
TZNAME:EST
DTSTART:20181104T060000
END:STANDARD
BEGIN:DAYLIGHT
TZOFFSETFROM:-0500
TZOFFSETTO:-0400
TZNAME:EDT
DTSTART:20190310T070000
END:DAYLIGHT
BEGIN:STANDARD
TZOFFSETFROM:-0400
TZOFFSETTO:-0500
TZNAME:EST
DTSTART:20191103T060000
END:STANDARD
BEGIN:DAYLIGHT
TZOFFSETFROM:-0500
TZOFFSETTO:-0400
TZNAME:EDT
DTSTART:20200308T070000
END:DAYLIGHT
BEGIN:STANDARD
TZOFFSETFROM:-0400
TZOFFSETTO:-0500
TZNAME:EST
DTSTART:20201101T060000
END:STANDARD
BEGIN:DAYLIGHT
TZOFFSETFROM:-0500
TZOFFSETTO:-0400
TZNAME:EDT
DTSTART:20210314T070000
END:DAYLIGHT
BEGIN:STANDARD
TZOFFSETFROM:-0400
TZOFFSETTO:-0500
TZNAME:EST
DTSTART:20211107T060000
END:STANDARD
BEGIN:DAYLIGHT
TZOFFSETFROM:-0500
TZOFFSETTO:-0400
TZNAME:EDT
DTSTART:20220313T070000
END:DAYLIGHT
BEGIN:STANDARD
TZOFFSETFROM:-0400
TZOFFSETTO:-0500
TZNAME:EST
DTSTART:20221106T060000
END:STANDARD
BEGIN:DAYLIGHT
TZOFFSETFROM:-0500
TZOFFSETTO:-0400
TZNAME:EDT
DTSTART:20230312T070000
END:DAYLIGHT
BEGIN:STANDARD
TZOFFSETFROM:-0400
TZOFFSETTO:-0500
TZNAME:EST
DTSTART:20231105T060000
END:STANDARD
BEGIN:DAYLIGHT
TZOFFSETFROM:-0500
TZOFFSETTO:-0400
TZNAME:EDT
DTSTART:20240310T070000
END:DAYLIGHT
BEGIN:STANDARD
TZOFFSETFROM:-0400
TZOFFSETTO:-0500
TZNAME:EST
DTSTART:20241103T060000
END:STANDARD
BEGIN:DAYLIGHT
TZOFFSETFROM:-0500
TZOFFSETTO:-0400
TZNAME:EDT
DTSTART:20250309T070000
END:DAYLIGHT
BEGIN:STANDARD
TZOFFSETFROM:-0400
TZOFFSETTO:-0500
TZNAME:EST
DTSTART:20251102T060000
END:STANDARD
BEGIN:DAYLIGHT
TZOFFSETFROM:-0500
TZOFFSETTO:-0400
TZNAME:EDT
DTSTART:20260308T070000
END:DAYLIGHT
BEGIN:STANDARD
TZOFFSETFROM:-0400
TZOFFSETTO:-0500
TZNAME:EST
DTSTART:20261101T060000
END:STANDARD
END:VTIMEZONE
BEGIN:VEVENT
DTSTART;VALUE=DATE:20250830
DTEND;VALUE=DATE:20250902
DTSTAMP:20260424T183318
CREATED:20250808T155422Z
LAST-MODIFIED:20250829T154550Z
UID:6441-1756512000-1756771199@decouvertenature.qc.ca
SUMMARY:Mobilisation petits bedons du 30 août au 1er septembre 2025
DESCRIPTION:Notre opération « Mobilisations petits bedons »  est une initiative dédiée à recueillir des fonds pour soutenir les programmes d’aide alimentaire dans les écoles de Coaticook. \nNotre désir de redonner à la communauté nous tient particulièrement à cœur. C’est pourquoi\, pour chaque entrée vendue entre le 30 août et le 1er septembre au Parc de la Gorge de Coaticook\, à Foresta Lumina et au Parc Découverte Nature\, nous remettrons 1 $ à la cause. Ce dollar permettra d’offrir des repas nutritifs aux enfants durant leurs journées d’école. Nous voulons faire une différence! \nDes boîtes pour recueillir les dons seront disponibles à l’accueil du camping (400\, rue St-Marc\, Coaticook)\, à l’accueil Denis Maurais (135\, rue Michaud\, Coaticook) ainsi qu’à l’accueil du Parc Découverte Nature (2471\, chemin Baldwin-Barnston\, Coaticook). \nSi vous voulez lire le communiqué de presse\, cliquez ici !
URL:https://decouvertenature.qc.ca/evenement/mobilisation-petits-bedons-du-30-aout-au-1er-septembre-2025/
LOCATION:Parc Découverte Nature\, 2471\, chemin de Baldwin Mills-Barnston\, Coaticook\, QC\, J1A 2S4\, Canada
CATEGORIES:Activités des campeurs,Parc de la Gorge de Coaticook,Parc Découverte Nature
ATTACH;FMTTYPE=image/jpeg:https://decouvertenature.qc.ca/wp-content/uploads/2024/08/Promo_evenement_facebook.jpg
ORGANIZER;CN="Parc D%C3%A9couverte Nature":MAILTO:info@decouvertenature.qc.ca
GEO:45.0475581;-71.9093103
X-APPLE-STRUCTURED-LOCATION;VALUE=URI;X-ADDRESS=Parc Découverte Nature 2471 chemin de Baldwin Mills-Barnston Coaticook QC J1A 2S4 Canada;X-APPLE-RADIUS=500;X-TITLE=2471\, chemin de Baldwin Mills-Barnston:geo:-71.9093103,45.0475581
END:VEVENT
BEGIN:VEVENT
DTSTART;VALUE=DATE:20240831
DTEND;VALUE=DATE:20240903
DTSTAMP:20260424T183318
CREATED:20240815T183450Z
LAST-MODIFIED:20240815T183625Z
UID:6141-1725062400-1725321599@decouvertenature.qc.ca
SUMMARY:Mobilisation petits bedons du 31 août au 2 septembre 2024
DESCRIPTION:Notre opération « Mobilisations petits bedons est une initiative dédiée à recueillir des fonds pour soutenir les programmes d’aide alimentaire dans les écoles primaires de Coaticook. \nNotre désir de redonner à la communauté nous tient particulièrement à cœur. C’est pourquoi\, pour chaque entrée vendue entre le 31 août et le 2 septembre au Parc de la Gorge de Coaticook\, à Foresta Lumina et au Parc Découverte Nature\, nous remettrons 1 $ à la cause. Ce dollar permettra d’offrir des repas nutritifs aux enfants qui\, malheureusement\, n’en ont pas durant leurs journées d’école. Nous voulons faire une différence! \nDes boîtes pour recueillir les dons seront disponibles à l’accueil du camping (400\, rue St-Marc\, Coaticook)\, à l’accueil Denis Maurais (135\, rue Michaud\, Coaticook) ainsi qu’à l’accueil du Parc Découverte Nature (2471\, chemin Baldwin-Barnston\, Coaticook).
URL:https://decouvertenature.qc.ca/evenement/mobilisation-petits-bedons-du-31-aout-au-2-septembre-2024/
LOCATION:Parc Découverte Nature\, 2471\, chemin de Baldwin Mills-Barnston\, Coaticook\, QC\, J1A 2S4\, Canada
CATEGORIES:Activités des campeurs,Parc de la Gorge de Coaticook,Parc Découverte Nature
ATTACH;FMTTYPE=image/jpeg:https://decouvertenature.qc.ca/wp-content/uploads/2024/08/Promo_evenement_facebook.jpg
ORGANIZER;CN="Parc D%C3%A9couverte Nature":MAILTO:info@decouvertenature.qc.ca
GEO:45.0475581;-71.9093103
X-APPLE-STRUCTURED-LOCATION;VALUE=URI;X-ADDRESS=Parc Découverte Nature 2471 chemin de Baldwin Mills-Barnston Coaticook QC J1A 2S4 Canada;X-APPLE-RADIUS=500;X-TITLE=2471\, chemin de Baldwin Mills-Barnston:geo:-71.9093103,45.0475581
END:VEVENT
BEGIN:VEVENT
DTSTART;TZID=America/Toronto:20200623T211500
DTEND;TZID=America/Toronto:20200623T230000
DTSTAMP:20260424T183318
CREATED:20200615T125252Z
LAST-MODIFIED:20200622T183917Z
UID:2989-1592946900-1592953200@decouvertenature.qc.ca
SUMMARY:Le Parc de la Gorge de Coaticook réinvente la Fête nationale! Feu d'artifice annulé\, mais il y aura de la musique en ligne!
DESCRIPTION:*** Mise à jour – 22 juin 2020 *** \nEn fonction de l’indice de danger « extrême » de la Société de protection des forêts contre le feu\, une difficile décision a dû être prise. En collaboration avec la Régie intermunicipale de protection incendie de la région de Coaticook\, nous sommes dans l’obligation d’annuler officiellement le feu d’artifice prévu à 21 h 15 le 23 juin 2020. \nNous aurions aimé mettre de la couleur dans le ciel\, mais pour des raisons de sécurité évidentes\, nous ne pourrons le faire cette année. Par contre\, nous pourrons vous en mettre plein les oreilles puisque nous maintenons le spectacle de Réjean Audet (23 juin 2020) qui sera diffusé sur le site du 96\,7  ou encore en « Facebook live »  dès 21 h 30 sur la page Facebook de CIGN. \nNous tenons à remercier nos précieux partenaires : Ville de Coaticook\, Caisse Desjardins des Verts-Sommets de l’Estrie\, CIGN et le Centre d’Initiatives en Agriculture de la Région de Coaticook. \nMerci de votre compréhension et bon spectacle! \n*** \nLe 23 juin\, dès 21 h 15\, vous verrez dans le ciel un magnifique feu d’artifice à partir de votre balcon.  Pas de balcon?Vous êtes invités à vous brancher sur la page Facebook du Parc de la Gorge de Coaticook et à syntoniser la radio de CIGN 96\,7 FM. Cette combinaison gagnante mettra de la couleur et de la joie dans cette soirée où la fierté d’être québécois et québécoise rayonnera! \nDès 21 h 30\, dirigez-vous vers la page Facebook de CIGN 96\,7 FM pour une prestation de Réjean Audet. \nLe Parc de la Gorge de Coaticook\, la Ville de Coaticook\, la Caisse des Verts-sommets de l’Estrie et CIGN 96\,7 FM sont fiers de vous offrir une soirée magique dont nous parlerons longtemps! \nRendez-vous en ligne\, le 23 juin\, dès 21 h 15! \nMerci à nos précieux partenaires : Ville de Coaticook\, Caisse des Verts sommets de l’Estrie et CIGN \nRappel – Aucune activité sur le site du Parc de la Gorge de Coaticook en lien avec le Fête nationale le 23 juin 2020. Merci de votre collaboration!
URL:https://decouvertenature.qc.ca/evenement/le-parc-de-la-gorge-de-coaticook-reinvente-la-fete-nationale/
CATEGORIES:Activités des campeurs,Parc de la Gorge de Coaticook,Parc Découverte Nature
ATTACH;FMTTYPE=image/jpeg:https://decouvertenature.qc.ca/wp-content/uploads/2020/06/2-1.jpg
ORGANIZER;CN="Parc de la Gorge de Coaticook":MAILTO:accueil@gorgedecoaticook.qc.ca
END:VEVENT
BEGIN:VEVENT
DTSTART;TZID=America/Toronto:20191025T180000
DTEND;TZID=America/Toronto:20191025T233000
DTSTAMP:20260424T183318
CREATED:20191001T185122Z
LAST-MODIFIED:20191024T194155Z
UID:2587-1572026400-1572046200@decouvertenature.qc.ca
SUMMARY:Souper Découverte Huîtres -  Événement-bénéfice - Complet
DESCRIPTION:Événement complet – Merci! \nLe Parc Découverte Nature est heureux de vous inviter à son événement-bénéfice du Souper Découverte Huîtres! \nEncan\, spectacle de Duo Tang et deux consommations gratuites \nBillet : 100 $ (taxes incluses). Places limités \nService de raccompagnement sur place \nRéservation avant le 18 octobre 2019 au jpetit@gorgedecoaticook.qc.ca ou au 819-849-2331 poste 230. \nMerci à nos commanditaires : IGA de Coaticook\, Taxi 300 de Coaticook\, Carbone graphique\, Club de golf de Coaticook\, Valfei \n 
URL:https://decouvertenature.qc.ca/evenement/souper-decouverte-huitres-evenement-benefice/
LOCATION:Parc de la Gorge de Coaticook – Accueil du camping\, 400\, rue St-Marc\, C.P. 245\, Coaticook\, QC\, J1A 2T7\, Canada
CATEGORIES:Activités des campeurs,Parc de la Gorge de Coaticook,Parc Découverte Nature
ATTACH;FMTTYPE=image/jpeg:https://decouvertenature.qc.ca/wp-content/uploads/2019/10/Site_web.jpg
ORGANIZER;CN="Parc de la Gorge de Coaticook":MAILTO:accueil@gorgedecoaticook.qc.ca
GEO:45.1449532;-71.7978862
X-APPLE-STRUCTURED-LOCATION;VALUE=URI;X-ADDRESS=Parc de la Gorge de Coaticook – Accueil du camping 400 rue St-Marc C.P. 245 Coaticook QC J1A 2T7 Canada;X-APPLE-RADIUS=500;X-TITLE=400\, rue St-Marc\, C.P. 245:geo:-71.7978862,45.1449532
END:VEVENT
END:VCALENDAR